BEGIN:VCALENDAR
PRODID:-//eluceo/ical//2.0/EN
VERSION:2.0
CALSCALE:GREGORIAN
BEGIN:VEVENT
UID:6de06352b10c2a9ebb2d562e4dab7aa0
DTSTAMP:20260423T171937Z
SUMMARY:Diner
DESCRIPTION:Webseite: http://www.hotelstgotthard.ch
URL:https://rotaryeclub2000.org/de/agenda/show/38631
DTSTART;TZID=Europe/Zurich:20140901T190000
DTEND;TZID=Europe/Zurich:20140901T213000
LOCATION:Hotel St. Gotthard
CATEGORIES:Rotary
END:VEVENT
BEGIN:VTIMEZONE
TZID:Europe/Zurich
BEGIN:DAYLIGHT
DTSTART:20140901T190000
TZNAME:CEST
TZOFFSETTO:+0200
TZOFFSETFROM:+0200
END:DAYLIGHT
END:VTIMEZONE
END:VCALENDAR
