BEGIN:VCALENDAR
PRODID:-//eluceo/ical//2.0/EN
VERSION:2.0
CALSCALE:GREGORIAN
BEGIN:VEVENT
UID:a43b435bfc96a2d28326579c3612bfe1
DTSTAMP:20260423T181905Z
SUMMARY:Pfingstmontag - Meeting entfällt
DESCRIPTION:Sitio web: https://some.adobeconnect.com/_a1114305376/eclub2000
 switzerland/
URL:https://rotaryeclub2000.org/es/agenda/show/38670
DTSTART;TZID=Europe/Zurich:20150525T203000
DTEND;TZID=Europe/Zurich:20150525T220000
LOCATION:Online
CATEGORIES:Rotary
END:VEVENT
BEGIN:VTIMEZONE
TZID:Europe/Zurich
BEGIN:DAYLIGHT
DTSTART:20150525T203000
TZNAME:CEST
TZOFFSETTO:+0200
TZOFFSETFROM:+0200
END:DAYLIGHT
END:VTIMEZONE
END:VCALENDAR
