BEGIN:VCALENDAR
PRODID:-//eluceo/ical//2.0/EN
VERSION:2.0
CALSCALE:GREGORIAN
BEGIN:VEVENT
UID:d0b4455f138f8ca443f3f7f6bcbf8768
DTSTAMP:20260423T164920Z
SUMMARY:Dinner - Vortrag im Projektraum der Europaalee
DESCRIPTION:Am 01.06. beginnen wir ausnahmsweise schon um 19:00 Uhr mit dem
  Meeting (das Essen wird um 19:15 Uhr serviert). Grund: Wir müssen uns sp
 ätestens um 20:15 Uhr auf den Weg zur Europaallee machen\, um pünktlich 
 zum Vortrag (20:30 Uhr) dort im Projektraum zu sein.\nSitio web: http://ww
 w.brasserie-lipp.ch\nOrador(es): David Gilg\nAnlageobjekte SBB Immobilien
URL:https://rotaryeclub2000.org/es/agenda/show/38671
DTSTART;TZID=Europe/Zurich:20150601T190000
DTEND;TZID=Europe/Zurich:20150601T213000
LOCATION:Brasserie Lipp Zürich
CATEGORIES:Rotary
END:VEVENT
BEGIN:VTIMEZONE
TZID:Europe/Zurich
BEGIN:DAYLIGHT
DTSTART:20150601T190000
TZNAME:CEST
TZOFFSETTO:+0200
TZOFFSETFROM:+0200
END:DAYLIGHT
END:VTIMEZONE
END:VCALENDAR
