BEGIN:VCALENDAR
PRODID:-//eluceo/ical//2.0/EN
VERSION:2.0
CALSCALE:GREGORIAN
BEGIN:VEVENT
UID:0a26f170b90313e4e5a07ce5fe062731
DTSTAMP:20260423T151447Z
SUMMARY:Partneranlass: Radtour Töss
DESCRIPTION:Sitio web: https://some.adobeconnect.com/_a1114305376/eclub2000
 switzerland/\nOrador(es): Datum: Samstag 6.6.15\nZeit: 14 Uhr\nOrt: Bahnho
 f Winterthur (vor EKZ Archhöfe)\nRäder: keine Vorgabe solange Strassenta
 uglich\nEmpfohlen: Helm\, Trinkflasche\, Sonnencreme
URL:https://rotaryeclub2000.org/es/agenda/show/38672
DTSTART;TZID=Europe/Zurich:20150606T140000
DTEND;TZID=Europe/Zurich:20150606T180000
LOCATION:Online
CATEGORIES:Rotary
END:VEVENT
BEGIN:VTIMEZONE
TZID:Europe/Zurich
BEGIN:DAYLIGHT
DTSTART:20150606T140000
TZNAME:CEST
TZOFFSETTO:+0200
TZOFFSETFROM:+0200
END:DAYLIGHT
END:VTIMEZONE
END:VCALENDAR
