BEGIN:VCALENDAR
PRODID:-//eluceo/ical//2.0/EN
VERSION:2.0
CALSCALE:GREGORIAN
BEGIN:VEVENT
UID:7e93a71384b439d977741ce2d17a1812
DTSTAMP:20260423T121318Z
SUMMARY:Special heute 20h30: Live Schaltung nach Sao Paulo ins House of Fri
 endship an der Rotary Convention 2015
DESCRIPTION:Heute schalten wir kurzfristig für alle die Online sein könne
 n in House of Friendship an die Rotary Convention 2015\nAufgrund der Kurzf
 ristigkeit - Teilnahme Freiwillig \nSitio web: https://some.adobeconnect.
 com/_a1114305376/eclub2000switzerland/
URL:https://rotaryeclub2000.org/es/agenda/show/51517
DTSTART;TZID=Europe/Zurich:20150608T203000
DTEND;TZID=Europe/Zurich:20150608T213000
LOCATION:online
CATEGORIES:Rotary
END:VEVENT
BEGIN:VTIMEZONE
TZID:Europe/Zurich
BEGIN:DAYLIGHT
DTSTART:20150608T203000
TZNAME:CEST
TZOFFSETTO:+0200
TZOFFSETFROM:+0200
END:DAYLIGHT
END:VTIMEZONE
END:VCALENDAR
