BEGIN:VCALENDAR
PRODID:-//eluceo/ical//2.0/EN
VERSION:2.0
CALSCALE:GREGORIAN
BEGIN:VEVENT
UID:3921e5885faa1230ee146419ccfa60ab
DTSTAMP:20260421T193844Z
SUMMARY:Plaudermeeting
DESCRIPTION:Eindruck und weitere Überlegungen zu Projekt "mini Decki"\, In
 itialisierung nächste dinner@home sowie weitere Themen. Spezifische Wü
 nsche bitte wenn möglich Yvonne Müller vorab zukommen lassen.  \nSito 
 web: https://some.adobeconnect.com/_a1114305376/eclub2000switzerland/
URL:https://rotaryeclub2000.org/it/agenda/show/55083
DTSTART;TZID=Europe/Zurich:20150914T203000
DTEND;TZID=Europe/Zurich:20150914T220000
LOCATION:online Meeting
CATEGORIES:Rotary
END:VEVENT
BEGIN:VTIMEZONE
TZID:Europe/Zurich
BEGIN:DAYLIGHT
DTSTART:20150914T203000
TZNAME:CEST
TZOFFSETTO:+0200
TZOFFSETFROM:+0200
END:DAYLIGHT
END:VTIMEZONE
END:VCALENDAR
