BEGIN:VCALENDAR
PRODID:-//eluceo/ical//2.0/EN
VERSION:2.0
CALSCALE:GREGORIAN
BEGIN:VEVENT
UID:c849491764296cc1bcde4f89bf27b73d
DTSTAMP:20260424T223521Z
SUMMARY:sichere\, zuverlässige IT: heute und in Zukunft
DESCRIPTION:Talare: Romano Roth
URL:https://rotaryeclub2000.org/sv/agenda/show/144609
DTSTART;TZID=Europe/Zurich:20221031T203000
DTEND;TZID=Europe/Zurich:20221031T220000
LOCATION:Virtuelles Clubhaus\, Onlinemeeting auf der Internetplattform Zoom
 \, 8000 Zoom
CATEGORIES:Rotary
END:VEVENT
BEGIN:VTIMEZONE
TZID:Europe/Zurich
BEGIN:STANDARD
DTSTART:20221031T203000
TZNAME:CET
TZOFFSETTO:+0100
TZOFFSETFROM:+0100
END:STANDARD
END:VTIMEZONE
END:VCALENDAR
